BEGIN:VCALENDAR
PRODID:-//Google Inc//Google Calendar 70.9054//EN
VERSION:2.0
CALSCALE:GREGORIAN
METHOD:REQUEST
BEGIN:VTIMEZONE
TZID:Europe/Berlin
X-LIC-LOCATION:Europe/Berlin
BEGIN:DAYLIGHT
TZOFFSETFROM:+0100
TZOFFSETTO:+0200
TZNAME:GMT+2
DTSTART:19700329T020000
RRULE:FREQ=YEARLY;BYMONTH=3;BYDAY=-1SU
END:DAYLIGHT
BEGIN:STANDARD
TZOFFSETFROM:+0200
TZOFFSETTO:+0100
TZNAME:GMT+1
DTSTART:19701025T030000
RRULE:FREQ=YEARLY;BYMONTH=10;BYDAY=-1SU
END:STANDARD
END:VTIMEZONE
BEGIN:VEVENT
DTSTART;TZID=Europe/Berlin:20260424T193000
DTEND;TZID=Europe/Berlin:20260424T210000
DTSTAMP:20260417T140015Z
ORGANIZER;CN=Jan Schultke:mailto:janschultke@googlemail.com
UID:6ag9g44t4c54aj20h92t4524s7@google.com
ATTENDEE;CUTYPE=INDIVIDUAL;ROLE=REQ-PARTICIPANT;PARTSTAT=NEEDS-ACTION;RSVP=
 TRUE;CN=eggrobin@unicode.org;X-NUM-GUESTS=0:mailto:eggrobin@unicode.org
ATTENDEE;CUTYPE=INDIVIDUAL;ROLE=REQ-PARTICIPANT;PARTSTAT=NEEDS-ACTION;RSVP=
 TRUE;CN=aceleste@perforce.com;X-NUM-GUESTS=0:mailto:aceleste@perforce.com
ATTENDEE;CUTYPE=INDIVIDUAL;ROLE=REQ-PARTICIPANT;PARTSTAT=NEEDS-ACTION;RSVP=
 TRUE;CN=herring@lanl.gov;X-NUM-GUESTS=0:mailto:herring@lanl.gov
ATTENDEE;CUTYPE=INDIVIDUAL;ROLE=REQ-PARTICIPANT;PARTSTAT=NEEDS-ACTION;RSVP=
 TRUE;CN=tom@honermann.net;X-NUM-GUESTS=0:mailto:tom@honermann.net
ATTENDEE;CUTYPE=INDIVIDUAL;ROLE=REQ-PARTICIPANT;PARTSTAT=ACCEPTED;RSVP=TRUE
 ;CN=Jan Schultke;X-NUM-GUESTS=0:mailto:janschultke@googlemail.com
ATTENDEE;CUTYPE=INDIVIDUAL;ROLE=REQ-PARTICIPANT;PARTSTAT=NEEDS-ACTION;RSVP=
 TRUE;CN=jolly.chen@cern.ch;X-NUM-GUESTS=0:mailto:jolly.chen@cern.ch
ATTENDEE;CUTYPE=INDIVIDUAL;ROLE=REQ-PARTICIPANT;PARTSTAT=NEEDS-ACTION;RSVP=
 TRUE;CN=axel.naumann@cern.ch;X-NUM-GUESTS=0:mailto:axel.naumann@cern.ch
ATTENDEE;CUTYPE=INDIVIDUAL;ROLE=REQ-PARTICIPANT;PARTSTAT=NEEDS-ACTION;RSVP=
 TRUE;CN=corentin.jabot@gmail.com;X-NUM-GUESTS=0:mailto:corentin.jabot@gmail
 .com
ATTENDEE;CUTYPE=INDIVIDUAL;ROLE=REQ-PARTICIPANT;PARTSTAT=NEEDS-ACTION;RSVP=
 TRUE;CN=giuseppe.dangelo@kdab.com;X-NUM-GUESTS=0:mailto:giuseppe.dangelo@kd
 ab.com
ATTENDEE;CUTYPE=INDIVIDUAL;ROLE=REQ-PARTICIPANT;PARTSTAT=NEEDS-ACTION;RSVP=
 TRUE;CN=dinka.ranns@gmail.com;X-NUM-GUESTS=0:mailto:dinka.ranns@gmail.com
ATTENDEE;CUTYPE=INDIVIDUAL;ROLE=REQ-PARTICIPANT;PARTSTAT=NEEDS-ACTION;RSVP=
 TRUE;CN=joshua.cranmer@intel.com;X-NUM-GUESTS=0:mailto:joshua.cranmer@intel
 .com
ATTENDEE;CUTYPE=INDIVIDUAL;ROLE=REQ-PARTICIPANT;PARTSTAT=NEEDS-ACTION;RSVP=
 TRUE;CN=compatibility.sg.chair@gmail.com;X-NUM-GUESTS=0:mailto:compatibilit
 y.sg.chair@gmail.com
ATTENDEE;CUTYPE=INDIVIDUAL;ROLE=REQ-PARTICIPANT;PARTSTAT=NEEDS-ACTION;RSVP=
 TRUE;CN=liaison@lists.isocpp.org;X-NUM-GUESTS=0:mailto:liaison@lists.isocpp
 .org
ATTENDEE;CUTYPE=INDIVIDUAL;ROLE=REQ-PARTICIPANT;PARTSTAT=NEEDS-ACTION;RSVP=
 TRUE;CN=michael.jonker@cern.ch;X-NUM-GUESTS=0:mailto:michael.jonker@cern.ch
X-MICROSOFT-CDO-OWNERAPPTID:978126758
CREATED:20260417T140003Z
DESCRIPTION:
LAST-MODIFIED:20260417T140004Z
LOCATION:
SEQUENCE:0
STATUS:CONFIRMED
SUMMARY:SG22 Telecon 2026-04-24 05:30 PM UTC
TRANSP:OPAQUE
BEGIN:VALARM
ACTION:EMAIL
DESCRIPTION:This is an event reminder
SUMMARY:Alarm notification
ATTENDEE:mailto:liaison@lists.isocpp.org
TRIGGER:-P0DT0H10M0S
END:VALARM
BEGIN:VALARM
ACTION:DISPLAY
DESCRIPTION:This is an event reminder
TRIGGER:-P0DT0H30M0S
END:VALARM
END:VEVENT
END:VCALENDAR
